BEGIN:VCALENDAR
VERSION:2.0
PRODID:-//Nourish East End - ECPv6.15.20//NONSGML v1.0//EN
CALSCALE:GREGORIAN
METHOD:PUBLISH
X-WR-CALNAME:Nourish East End
X-ORIGINAL-URL:https://nourisheastend.ca
X-WR-CALDESC:Events for Nourish East End
REFRESH-INTERVAL;VALUE=DURATION:PT1H
X-Robots-Tag:noindex
X-PUBLISHED-TTL:PT1H
BEGIN:VTIMEZONE
TZID:America/Toronto
BEGIN:DAYLIGHT
TZOFFSETFROM:-0500
TZOFFSETTO:-0400
TZNAME:EDT
DTSTART:20250309T070000
END:DAYLIGHT
BEGIN:STANDARD
TZOFFSETFROM:-0400
TZOFFSETTO:-0500
TZNAME:EST
DTSTART:20251102T060000
END:STANDARD
BEGIN:DAYLIGHT
TZOFFSETFROM:-0500
TZOFFSETTO:-0400
TZNAME:EDT
DTSTART:20260308T070000
END:DAYLIGHT
BEGIN:STANDARD
TZOFFSETFROM:-0400
TZOFFSETTO:-0500
TZNAME:EST
DTSTART:20261101T060000
END:STANDARD
BEGIN:DAYLIGHT
TZOFFSETFROM:-0500
TZOFFSETTO:-0400
TZNAME:EDT
DTSTART:20270314T070000
END:DAYLIGHT
BEGIN:STANDARD
TZOFFSETFROM:-0400
TZOFFSETTO:-0500
TZNAME:EST
DTSTART:20271107T060000
END:STANDARD
END:VTIMEZONE
BEGIN:VEVENT
DTSTART;TZID=America/Toronto:20260525T170000
DTEND;TZID=America/Toronto:20260525T180000
DTSTAMP:20260422T175537
CREATED:20260223T213251Z
LAST-MODIFIED:20260224T150938Z
UID:3855-1779728400-1779732000@nourisheastend.ca
SUMMARY:Community Dinner
DESCRIPTION:On the fourth Monday of every month\, we open our doors to our entire community and welcome everyone to share & enjoy a hot meal together. Our community dinners are open to all\, regardless of economic circumstances. There is no sign-up or registration required\, just bring yourself to 1470 Gerrard Street East! Vegetarian options available. Please note that our dinners are for those joining us to eat in\, and no hot meals are available for take-out.  We do have a bagged meal with a sandwich\, juice\, cookies and a drink available for those unable to stay on-site for the dinner. After dinner we invite you to stay for Gab & Games.
URL:https://nourisheastend.ca/event/community-dinner-2026-5-25/
LOCATION:Nourish East End\, 1470 Gerrard St E\, Toronto\, Ontario\, M4L 2A3\, Canada
ORGANIZER;CN="Nourish East End":MAILTO:communitydinners@eastendunited.ca
END:VEVENT
BEGIN:VEVENT
DTSTART;TZID=America/Toronto:20260526T183000
DTEND;TZID=America/Toronto:20260526T203000
DTSTAMP:20260422T175537
CREATED:20260417T160841Z
LAST-MODIFIED:20260417T160930Z
UID:3979-1779820200-1779827400@nourisheastend.ca
SUMMARY:Hunger Inc. - Building Solidarity Beyond the Food Bank
DESCRIPTION:Join us for an eye-opening in-person event where we dig deep into the real issues behind hunger with the brilliant author and researcher Kayleigh Garthwaite. It’s all about creating true solidarity and finding solutions that go beyond the usual food bank approach. Come connect\, learn\, and be part of a community aiming to make lasting change. Don’t miss out on this chance to see hunger from a fresh perspective and get involved!
URL:https://nourisheastend.ca/event/hunger-inc-building-solidarity-beyond-the-food-bank/
LOCATION:Nourish East End\, 1470 Gerrard St E\, Toronto\, Ontario\, M4L 2A3\, Canada
ORGANIZER;CN="Nourish East End":MAILTO:communitydinners@eastendunited.ca
END:VEVENT
BEGIN:VEVENT
DTSTART;TZID=America/Toronto:20260622T170000
DTEND;TZID=America/Toronto:20260622T180000
DTSTAMP:20260422T175537
CREATED:20260223T213446Z
LAST-MODIFIED:20260224T150954Z
UID:3857-1782147600-1782151200@nourisheastend.ca
SUMMARY:Community Dinner
DESCRIPTION:On the fourth Monday of every month\, we open our doors to our entire community and welcome everyone to share & enjoy a hot meal together. Our community dinners are open to all\, regardless of economic circumstances. There is no sign-up or registration required\, just bring yourself to 1470 Gerrard Street East! Vegetarian options available. Please note that our dinners are for those joining us to eat in\, and no hot meals are available for take-out.  We do have a bagged meal with a sandwich\, juice\, cookies and a drink available for those unable to stay on-site for the dinner. After dinner we invite you to stay for Gab & Games.
URL:https://nourisheastend.ca/event/community-dinner-6-22-2026/
LOCATION:Nourish East End\, 1470 Gerrard St E\, Toronto\, Ontario\, M4L 2A3\, Canada
ORGANIZER;CN="Nourish East End":MAILTO:communitydinners@eastendunited.ca
END:VEVENT
BEGIN:VEVENT
DTSTART;TZID=America/Toronto:20260727T170000
DTEND;TZID=America/Toronto:20260727T180000
DTSTAMP:20260422T175537
CREATED:20260223T213600Z
LAST-MODIFIED:20260224T151021Z
UID:3859-1785171600-1785175200@nourisheastend.ca
SUMMARY:Community Dinner
DESCRIPTION:On the fourth Monday of every month\, we open our doors to our entire community and welcome everyone to share & enjoy a hot meal together. Our community dinners are open to all\, regardless of economic circumstances. There is no sign-up or registration required\, just bring yourself to 1470 Gerrard Street East! Vegetarian options available. Please note that our dinners are for those joining us to eat in\, and no hot meals are available for take-out.  We do have a bagged meal with a sandwich\, juice\, cookies and a drink available for those unable to stay on-site for the dinner. After dinner we invite you to stay for Gab & Games.
URL:https://nourisheastend.ca/event/community-dinner-7-27-2026/
LOCATION:Nourish East End\, 1470 Gerrard St E\, Toronto\, Ontario\, M4L 2A3\, Canada
ORGANIZER;CN="Nourish East End":MAILTO:communitydinners@eastendunited.ca
END:VEVENT
BEGIN:VEVENT
DTSTART;TZID=America/Toronto:20260824T170000
DTEND;TZID=America/Toronto:20260824T180000
DTSTAMP:20260422T175537
CREATED:20260223T213729Z
LAST-MODIFIED:20260224T151037Z
UID:3861-1787590800-1787594400@nourisheastend.ca
SUMMARY:Community Dinner
DESCRIPTION:On the fourth Monday of every month\, we open our doors to our entire community and welcome everyone to share & enjoy a hot meal together. Our community dinners are open to all\, regardless of economic circumstances. There is no sign-up or registration required\, just bring yourself to 1470 Gerrard Street East! Vegetarian options available. Please note that our dinners are for those joining us to eat in\, and no hot meals are available for take-out.  We do have a bagged meal with a sandwich\, juice\, cookies and a drink available for those unable to stay on-site for the dinner. After dinner we invite you to stay for Gab & Games.
URL:https://nourisheastend.ca/event/community-dinner-8-24-2026/
LOCATION:Nourish East End\, 1470 Gerrard St E\, Toronto\, Ontario\, M4L 2A3\, Canada
ORGANIZER;CN="Nourish East End":MAILTO:communitydinners@eastendunited.ca
END:VEVENT
END:VCALENDAR