BEGIN:VCALENDAR
VERSION:2.0
PRODID:-//Nourish East End - ECPv6.15.20//NONSGML v1.0//EN
CALSCALE:GREGORIAN
METHOD:PUBLISH
X-WR-CALNAME:Nourish East End
X-ORIGINAL-URL:https://nourisheastend.ca
X-WR-CALDESC:Events for Nourish East End
REFRESH-INTERVAL;VALUE=DURATION:PT1H
X-Robots-Tag:noindex
X-PUBLISHED-TTL:PT1H
BEGIN:VTIMEZONE
TZID:America/Toronto
BEGIN:DAYLIGHT
TZOFFSETFROM:-0500
TZOFFSETTO:-0400
TZNAME:EDT
DTSTART:20250309T070000
END:DAYLIGHT
BEGIN:STANDARD
TZOFFSETFROM:-0400
TZOFFSETTO:-0500
TZNAME:EST
DTSTART:20251102T060000
END:STANDARD
BEGIN:DAYLIGHT
TZOFFSETFROM:-0500
TZOFFSETTO:-0400
TZNAME:EDT
DTSTART:20260308T070000
END:DAYLIGHT
BEGIN:STANDARD
TZOFFSETFROM:-0400
TZOFFSETTO:-0500
TZNAME:EST
DTSTART:20261101T060000
END:STANDARD
BEGIN:DAYLIGHT
TZOFFSETFROM:-0500
TZOFFSETTO:-0400
TZNAME:EDT
DTSTART:20270314T070000
END:DAYLIGHT
BEGIN:STANDARD
TZOFFSETFROM:-0400
TZOFFSETTO:-0500
TZNAME:EST
DTSTART:20271107T060000
END:STANDARD
END:VTIMEZONE
BEGIN:VEVENT
DTSTART;TZID=America/Toronto:20260323T170000
DTEND;TZID=America/Toronto:20260323T180000
DTSTAMP:20260422T181349
CREATED:20260223T212602Z
LAST-MODIFIED:20260224T150855Z
UID:3840-1774285200-1774288800@nourisheastend.ca
SUMMARY:Community Dinner
DESCRIPTION:On the fourth Monday of every month\, we open our doors to our entire community and welcome everyone to share & enjoy a hot meal together. Our community dinners are open to all\, regardless of economic circumstances. There is no sign-up or registration required\, just bring yourself to 1470 Gerrard Street East! Vegetarian options available. Please note that our dinners are for those joining us to eat in\, and no hot meals are available for take-out.  We do have a bagged meal with a sandwich\, juice\, cookies and a drink available for those unable to stay on-site for the dinner. After dinner we invite you to stay for Gab & Games.
URL:https://nourisheastend.ca/event/community-dinner-2026-3-23/
LOCATION:Nourish East End\, 1470 Gerrard St E\, Toronto\, Ontario\, M4L 2A3\, Canada
ORGANIZER;CN="Nourish East End":MAILTO:communitydinners@eastendunited.ca
END:VEVENT
BEGIN:VEVENT
DTSTART;TZID=America/Toronto:20260223T170000
DTEND;TZID=America/Toronto:20260223T180000
DTSTAMP:20260422T181349
CREATED:20260223T195432Z
LAST-MODIFIED:20260224T150811Z
UID:3825-1771866000-1771869600@nourisheastend.ca
SUMMARY:Community Dinner
DESCRIPTION:On the fourth Monday of every month\, we open our doors to our entire community and welcome everyone to share & enjoy a hot meal together. Our community dinners are open to all\, regardless of economic circumstances. There is no sign-up or registration required\, just bring yourself to 1470 Gerrard Street East! Vegetarian options available. Please note that our dinners are for those joining us to eat in\, and no hot meals are available for take-out.  We do have a bagged meal with a sandwich\, juice\, cookies and a drink available for those unable to stay on-site for the dinner. After dinner we invite you to stay for Gab & Games.
URL:https://nourisheastend.ca/event/community-dinner-2026-2-23/
LOCATION:Nourish East End\, 1470 Gerrard St E\, Toronto\, Ontario\, M4L 2A3\, Canada
ORGANIZER;CN="Nourish East End":MAILTO:communitydinners@eastendunited.ca
END:VEVENT
END:VCALENDAR